Package: specL Version: 1.44.0 Command: /home/biocbuild/R/R/bin/R CMD INSTALL specL StartedAt: 2025-11-17 21:08:51 -0000 (Mon, 17 Nov 2025) EndedAt: 2025-11-17 21:10:03 -0000 (Mon, 17 Nov 2025) EllapsedTime: 71.4 seconds RetCode: 0 Status: OK