Package: specL Version: 1.44.0 Command: /home/biocbuild/R/R/bin/R CMD build --keep-empty-dirs --no-resave-data specL StartedAt: 2025-11-18 05:21:51 -0000 (Tue, 18 Nov 2025) EndedAt: 2025-11-18 05:22:25 -0000 (Tue, 18 Nov 2025) EllapsedTime: 34.0 seconds RetCode: 0 Status: OK PackageFile: specL_1.44.0.tar.gz PackageFileSize: 1.579 MiB