Package: specL Version: 1.44.0 Command: /home/biocbuild/bbs-3.22-bioc/R/bin/R CMD INSTALL specL StartedAt: 2025-11-11 15:10:28 -0500 (Tue, 11 Nov 2025) EndedAt: 2025-11-11 15:11:04 -0500 (Tue, 11 Nov 2025) EllapsedTime: 36.5 seconds RetCode: 0 Status: OK