Package: specL Version: 1.42.0 Command: /home/biocbuild/bbs-3.21-bioc/R/bin/R CMD INSTALL specL StartedAt: 2025-10-15 15:05:51 -0400 (Wed, 15 Oct 2025) EndedAt: 2025-10-15 15:06:25 -0400 (Wed, 15 Oct 2025) EllapsedTime: 34.0 seconds RetCode: 0 Status: OK