Package: specL Version: 1.42.0 Command: /home/biocbuild/bbs-3.21-bioc/R/bin/R CMD build --keep-empty-dirs --no-resave-data specL StartedAt: 2025-10-15 20:04:37 -0400 (Wed, 15 Oct 2025) EndedAt: 2025-10-15 20:04:57 -0400 (Wed, 15 Oct 2025) EllapsedTime: 20.0 seconds RetCode: 0 Status: OK PackageFile: specL_1.42.0.tar.gz PackageFileSize: 2.082 MiB