Package: specL Version: 1.42.0 Command: /Library/Frameworks/R.framework/Resources/bin/R CMD INSTALL specL StartedAt: 2025-10-13 15:18:14 -0400 (Mon, 13 Oct 2025) EndedAt: 2025-10-13 15:18:23 -0400 (Mon, 13 Oct 2025) EllapsedTime: 9.5 seconds RetCode: 0 Status: OK