Package: specL Version: 1.42.0 Command: /Library/Frameworks/R.framework/Resources/bin/R CMD build --keep-empty-dirs --no-resave-data specL StartedAt: 2025-10-14 10:09:09 -0400 (Tue, 14 Oct 2025) EndedAt: 2025-10-14 10:09:38 -0400 (Tue, 14 Oct 2025) EllapsedTime: 29.4 seconds RetCode: 0 Status: OK PackageFile: specL_1.42.0.tar.gz PackageFileSize: 2.059 MiB