Package: spatzie Version: 1.16.0 Command: /home/biocbuild/bbs-3.22-bioc/R/bin/R CMD INSTALL spatzie StartedAt: 2025-11-03 15:54:27 -0500 (Mon, 03 Nov 2025) EndedAt: 2025-11-03 15:55:25 -0500 (Mon, 03 Nov 2025) EllapsedTime: 58.2 seconds RetCode: 0 Status: OK