Package: spatialSimGP Version: 1.4.0 Command: /home/biocbuild/R/R/bin/R CMD INSTALL spatialSimGP StartedAt: 2025-11-10 21:41:43 -0000 (Mon, 10 Nov 2025) EndedAt: 2025-11-10 21:42:13 -0000 (Mon, 10 Nov 2025) EllapsedTime: 30.5 seconds RetCode: 0 Status: OK