Package: spatialSimGP Version: 1.4.0 Command: /home/biocbuild/R/R/bin/R CMD check --install=check:spatialSimGP.install-out.txt --library=/home/biocbuild/R/R/site-library --no-vignettes --timings spatialSimGP_1.4.0.tar.gz StartedAt: 2025-11-14 15:07:02 -0000 (Fri, 14 Nov 2025) EndedAt: 2025-11-14 15:12:05 -0000 (Fri, 14 Nov 2025) EllapsedTime: 302.6 seconds RetCode: 0 Status: OK CheckDir: spatialSimGP.Rcheck Warnings: 0