Package: spatialSimGP Version: 1.4.0 Command: /home/biocbuild/R/R/bin/R CMD build --keep-empty-dirs --no-resave-data spatialSimGP StartedAt: 2025-11-11 05:25:38 -0000 (Tue, 11 Nov 2025) EndedAt: 2025-11-11 05:26:49 -0000 (Tue, 11 Nov 2025) EllapsedTime: 71.0 seconds RetCode: 0 Status: OK PackageFile: spatialSimGP_1.4.0.tar.gz PackageFileSize: 540.2 KiB