Package: spatialSimGP Version: 1.4.0 Command: /home/biocbuild/bbs-3.22-bioc/R/bin/R CMD INSTALL spatialSimGP StartedAt: 2025-11-11 15:37:45 -0500 (Tue, 11 Nov 2025) EndedAt: 2025-11-11 15:38:07 -0500 (Tue, 11 Nov 2025) EllapsedTime: 22.8 seconds RetCode: 0 Status: OK