Package: spatialSimGP Version: 1.2.0 Command: /home/biocbuild/bbs-3.21-bioc/R/bin/R CMD INSTALL spatialSimGP StartedAt: 2025-09-28 15:47:47 -0400 (Sun, 28 Sep 2025) EndedAt: 2025-09-28 15:48:10 -0400 (Sun, 28 Sep 2025) EllapsedTime: 22.7 seconds RetCode: 0 Status: OK