Package: spatialHeatmap Version: 2.16.0 Command: /home/biocbuild/R/R/bin/R CMD INSTALL spatialHeatmap StartedAt: 2025-11-10 21:41:14 -0000 (Mon, 10 Nov 2025) EndedAt: 2025-11-10 21:42:13 -0000 (Mon, 10 Nov 2025) EllapsedTime: 59.3 seconds RetCode: 0 Status: OK