Package: spatialHeatmap Version: 2.16.0 Command: /home/biocbuild/R/R/bin/R CMD build --keep-empty-dirs --no-resave-data spatialHeatmap StartedAt: 2025-11-11 05:24:56 -0000 (Tue, 11 Nov 2025) EndedAt: 2025-11-11 05:30:55 -0000 (Tue, 11 Nov 2025) EllapsedTime: 359.2 seconds RetCode: 1 Status: ERROR PackageFile: None PackageFileSize: NA