Package: spatialHeatmap Version: 2.16.0 Command: /home/biocbuild/bbs-3.22-bioc/R/bin/R CMD INSTALL spatialHeatmap StartedAt: 2025-11-11 15:37:09 -0500 (Tue, 11 Nov 2025) EndedAt: 2025-11-11 15:37:51 -0500 (Tue, 11 Nov 2025) EllapsedTime: 42.1 seconds RetCode: 0 Status: OK