Package: spatialHeatmap Version: 2.16.0 Command: /home/biocbuild/bbs-3.22-bioc/R/bin/R CMD build --keep-empty-dirs --no-resave-data --md5 spatialHeatmap StartedAt: 2025-11-11 20:23:46 -0500 (Tue, 11 Nov 2025) EndedAt: 2025-11-11 20:27:38 -0500 (Tue, 11 Nov 2025) EllapsedTime: 232.2 seconds RetCode: 1 Status: ERROR PackageFile: None PackageFileSize: NA