Package: spatialDE Version: 1.16.0 Command: /home/biocbuild/bbs-3.22-bioc/R/bin/R CMD check --install=check:spatialDE.install-out.txt --library=/home/biocbuild/bbs-3.22-bioc/R/site-library --timings spatialDE_1.16.0.tar.gz StartedAt: 2025-11-15 04:38:41 -0500 (Sat, 15 Nov 2025) EndedAt: 2025-11-15 04:44:14 -0500 (Sat, 15 Nov 2025) EllapsedTime: 332.2 seconds RetCode: 0 Status: OK CheckDir: spatialDE.Rcheck Warnings: 0