Package: spatialDE Version: 1.16.0 Command: /home/biocbuild/bbs-3.22-bioc/R/bin/R CMD build --keep-empty-dirs --no-resave-data --md5 spatialDE StartedAt: 2025-11-11 20:22:35 -0500 (Tue, 11 Nov 2025) EndedAt: 2025-11-11 20:24:22 -0500 (Tue, 11 Nov 2025) EllapsedTime: 107.1 seconds RetCode: 0 Status: OK PackageFile: spatialDE_1.16.0.tar.gz PackageFileSize: 3.713 MiB