Package: spatialDE Version: 1.14.1 Command: /home/biocbuild/R/R/bin/R CMD INSTALL spatialDE StartedAt: 2025-10-09 21:20:01 -0000 (Thu, 09 Oct 2025) EndedAt: 2025-10-09 21:20:28 -0000 (Thu, 09 Oct 2025) EllapsedTime: 27.0 seconds RetCode: 0 Status: OK