Package: spatialDE Version: 1.14.1 Command: /home/biocbuild/R/R/bin/R CMD build --keep-empty-dirs --no-resave-data spatialDE StartedAt: 2025-10-10 04:51:07 -0000 (Fri, 10 Oct 2025) EndedAt: 2025-10-10 04:52:18 -0000 (Fri, 10 Oct 2025) EllapsedTime: 71.0 seconds RetCode: 1 Status: ERROR PackageFile: None PackageFileSize: NA