Package: sparsenetgls Version: 1.28.0 Command: /home/biocbuild/bbs-3.22-bioc/R/bin/R CMD INSTALL sparsenetgls StartedAt: 2025-11-13 15:06:11 -0500 (Thu, 13 Nov 2025) EndedAt: 2025-11-13 15:06:37 -0500 (Thu, 13 Nov 2025) EllapsedTime: 26.4 seconds RetCode: 0 Status: OK