Package: sparsenetgls Version: 1.28.0 Command: /home/biocbuild/bbs-3.22-bioc/R/bin/R CMD build --keep-empty-dirs --no-resave-data --md5 sparsenetgls StartedAt: 2025-11-14 20:21:24 -0500 (Fri, 14 Nov 2025) EndedAt: 2025-11-14 20:24:06 -0500 (Fri, 14 Nov 2025) EllapsedTime: 162.1 seconds RetCode: 0 Status: OK PackageFile: sparsenetgls_1.28.0.tar.gz PackageFileSize: 618.6 KiB