Package: sparsenetgls Version: 1.28.0 Command: /Library/Frameworks/R.framework/Resources/bin/R CMD INSTALL sparsenetgls StartedAt: 2025-11-10 15:03:25 -0500 (Mon, 10 Nov 2025) EndedAt: 2025-11-10 15:03:40 -0500 (Mon, 10 Nov 2025) EllapsedTime: 14.8 seconds RetCode: 0 Status: OK