Package: sparseMatrixStats Version: 1.22.0 Command: /home/biocbuild/R/R/bin/R CMD check --install=check:sparseMatrixStats.install-out.txt --library=/home/biocbuild/R/R/site-library --no-vignettes --timings sparseMatrixStats_1.22.0.tar.gz StartedAt: 2025-11-11 15:08:03 -0000 (Tue, 11 Nov 2025) EndedAt: 2025-11-11 15:09:29 -0000 (Tue, 11 Nov 2025) EllapsedTime: 86.1 seconds RetCode: 0 Status: OK CheckDir: sparseMatrixStats.Rcheck Warnings: 0