Package: sparseMatrixStats Version: 1.22.0 Command: /home/biocbuild/R/R/bin/R CMD build --keep-empty-dirs --no-resave-data sparseMatrixStats StartedAt: 2025-11-11 05:22:42 -0000 (Tue, 11 Nov 2025) EndedAt: 2025-11-11 05:23:29 -0000 (Tue, 11 Nov 2025) EllapsedTime: 47.0 seconds RetCode: 0 Status: OK PackageFile: sparseMatrixStats_1.22.0.tar.gz PackageFileSize: 711 KiB