Package: sparseMatrixStats Version: 1.22.0 Command: /home/biocbuild/bbs-3.22-bioc/R/bin/R CMD INSTALL sparseMatrixStats StartedAt: 2025-11-11 15:09:11 -0500 (Tue, 11 Nov 2025) EndedAt: 2025-11-11 15:09:39 -0500 (Tue, 11 Nov 2025) EllapsedTime: 27.2 seconds RetCode: 0 Status: OK