Package: sparseMatrixStats Version: 1.20.0 Command: /Library/Frameworks/R.framework/Resources/bin/R CMD build --keep-empty-dirs --no-resave-data sparseMatrixStats StartedAt: 2025-04-21 18:32:30 -0400 (Mon, 21 Apr 2025) EndedAt: 2025-04-21 18:33:04 -0400 (Mon, 21 Apr 2025) EllapsedTime: 34.2 seconds RetCode: 0 Status: OK PackageFile: sparseMatrixStats_1.20.0.tar.gz PackageFileSize: 687.6 KiB