Package: sparrow Version: 1.16.0 Command: /home/biocbuild/bbs-3.22-bioc/R/bin/R CMD check --install=check:sparrow.install-out.txt --library=/home/biocbuild/bbs-3.22-bioc/R/site-library --timings sparrow_1.16.0.tar.gz StartedAt: 2025-11-15 04:36:48 -0500 (Sat, 15 Nov 2025) EndedAt: 2025-11-15 04:46:29 -0500 (Sat, 15 Nov 2025) EllapsedTime: 580.5 seconds RetCode: 0 Status: OK CheckDir: sparrow.Rcheck Warnings: 0