Package: sparrow Version: 1.16.0 Command: /Library/Frameworks/R.framework/Resources/bin/R CMD INSTALL sparrow StartedAt: 2025-11-03 15:30:42 -0500 (Mon, 03 Nov 2025) EndedAt: 2025-11-03 15:31:26 -0500 (Mon, 03 Nov 2025) EllapsedTime: 43.4 seconds RetCode: 0 Status: OK