Package: sparrow Version: 1.16.0 Command: /Library/Frameworks/R.framework/Resources/bin/R CMD build --keep-empty-dirs --no-resave-data sparrow StartedAt: 2025-11-03 18:52:57 -0500 (Mon, 03 Nov 2025) EndedAt: 2025-11-03 18:55:21 -0500 (Mon, 03 Nov 2025) EllapsedTime: 143.9 seconds RetCode: 0 Status: OK PackageFile: sparrow_1.16.0.tar.gz PackageFileSize: 4.127 MiB