Package: sparrow Version: 1.14.0 Command: /home/biocbuild/R/R/bin/R CMD INSTALL sparrow StartedAt: 2025-10-09 20:44:32 -0000 (Thu, 09 Oct 2025) EndedAt: 2025-10-09 20:45:17 -0000 (Thu, 09 Oct 2025) EllapsedTime: 45.2 seconds RetCode: 0 Status: OK