Package: sparrow Version: 1.14.0 Command: /home/biocbuild/R/R/bin/R CMD build --keep-empty-dirs --no-resave-data sparrow StartedAt: 2025-10-10 04:49:14 -0000 (Fri, 10 Oct 2025) EndedAt: 2025-10-10 04:50:55 -0000 (Fri, 10 Oct 2025) EllapsedTime: 101.0 seconds RetCode: 0 Status: OK PackageFile: sparrow_1.14.0.tar.gz PackageFileSize: 4.067 MiB