Package: spacexr Version: 1.2.0 Command: /home/biocbuild/R/R/bin/R CMD INSTALL spacexr StartedAt: 2025-11-13 21:27:54 -0000 (Thu, 13 Nov 2025) EndedAt: 2025-11-13 21:28:32 -0000 (Thu, 13 Nov 2025) EllapsedTime: 38.8 seconds RetCode: 0 Status: OK