Package: spacexr Version: 1.2.0 Command: /home/biocbuild/R/R/bin/R CMD build --keep-empty-dirs --no-resave-data spacexr StartedAt: 2025-11-14 05:32:16 -0000 (Fri, 14 Nov 2025) EndedAt: 2025-11-14 05:33:52 -0000 (Fri, 14 Nov 2025) EllapsedTime: 96.1 seconds RetCode: 0 Status: OK PackageFile: spacexr_1.2.0.tar.gz PackageFileSize: 387.6 KiB