Package: spacexr Version: 1.0.0 Command: /home/biocbuild/bbs-3.21-bioc/R/bin/R CMD INSTALL spacexr StartedAt: 2025-10-12 15:19:33 -0400 (Sun, 12 Oct 2025) EndedAt: 2025-10-12 15:20:02 -0400 (Sun, 12 Oct 2025) EllapsedTime: 29.1 seconds RetCode: 0 Status: OK