Package: spacexr Version: 1.0.0 Command: /home/biocbuild/bbs-3.21-bioc/R/bin/R CMD build --keep-empty-dirs --no-resave-data spacexr StartedAt: 2025-10-12 20:03:28 -0400 (Sun, 12 Oct 2025) EndedAt: 2025-10-12 20:05:08 -0400 (Sun, 12 Oct 2025) EllapsedTime: 100.1 seconds RetCode: 0 Status: OK PackageFile: spacexr_1.0.0.tar.gz PackageFileSize: 430.4 KiB