Package: spacexr Version: 1.0.0 Command: /Library/Frameworks/R.framework/Resources/bin/R CMD INSTALL spacexr StartedAt: 2025-10-09 16:15:03 -0400 (Thu, 09 Oct 2025) EndedAt: 2025-10-09 16:15:39 -0400 (Thu, 09 Oct 2025) EllapsedTime: 36.1 seconds RetCode: 0 Status: OK