Package: spacexr Version: 1.0.0 Command: /Library/Frameworks/R.framework/Resources/bin/R CMD build --keep-empty-dirs --no-resave-data spacexr StartedAt: 2025-10-10 10:19:10 -0400 (Fri, 10 Oct 2025) EndedAt: 2025-10-10 10:21:18 -0400 (Fri, 10 Oct 2025) EllapsedTime: 127.6 seconds RetCode: 0 Status: OK PackageFile: spacexr_1.0.0.tar.gz PackageFileSize: 482.9 KiB