Package: spacexr Version: 1.0.0 Command: rm -rf spacexr.buildbin-libdir && mkdir spacexr.buildbin-libdir && /Users/biocbuild/BBS/utils/build-universal.sh spacexr_1.0.0.tar.gz /Library/Frameworks/R.framework/Resources/bin/R spacexr.buildbin-libdir StartedAt: 2025-10-11 22:25:34 -0400 (Sat, 11 Oct 2025) EndedAt: 2025-10-11 22:26:15 -0400 (Sat, 11 Oct 2025) EllapsedTime: 41.1 seconds RetCode: 0 Status: OK PackageFile: spacexr_1.0.0.tgz PackageFileSize: 999.2 KiB