Package: spaSim Version: 1.12.0 Command: /home/biocbuild/bbs-3.22-bioc/R/bin/R CMD INSTALL spaSim StartedAt: 2025-11-13 15:34:39 -0500 (Thu, 13 Nov 2025) EndedAt: 2025-11-13 15:35:07 -0500 (Thu, 13 Nov 2025) EllapsedTime: 27.8 seconds RetCode: 0 Status: OK