Package: spaSim Version: 1.12.0 Command: /Library/Frameworks/R.framework/Resources/bin/R CMD INSTALL spaSim StartedAt: 2025-11-03 15:36:13 -0500 (Mon, 03 Nov 2025) EndedAt: 2025-11-03 15:36:48 -0500 (Mon, 03 Nov 2025) EllapsedTime: 35.2 seconds RetCode: 0 Status: OK