Package: spaSim Version: 1.12.0 Command: /Library/Frameworks/R.framework/Resources/bin/R CMD build --keep-empty-dirs --no-resave-data spaSim StartedAt: 2025-11-03 18:53:33 -0500 (Mon, 03 Nov 2025) EndedAt: 2025-11-03 18:55:33 -0500 (Mon, 03 Nov 2025) EllapsedTime: 119.9 seconds RetCode: 0 Status: OK PackageFile: spaSim_1.12.0.tar.gz PackageFileSize: 4.019 MiB