Package: spaSim Version: 1.10.0 Command: /home/biocbuild/R/R/bin/R CMD INSTALL spaSim StartedAt: 2025-10-13 20:47:29 -0000 (Mon, 13 Oct 2025) EndedAt: 2025-10-13 20:48:06 -0000 (Mon, 13 Oct 2025) EllapsedTime: 37.0 seconds RetCode: 0 Status: OK