Package: spaSim Version: 1.12.0 Command: /Library/Frameworks/R.framework/Resources/bin/R CMD INSTALL spaSim StartedAt: 2025-11-20 17:43:59 -0500 (Thu, 20 Nov 2025) EndedAt: 2025-11-20 17:44:30 -0500 (Thu, 20 Nov 2025) EllapsedTime: 31.3 seconds RetCode: 0 Status: OK