Package: spaSim Version: 1.12.0 Command: rm -rf spaSim.buildbin-libdir && mkdir spaSim.buildbin-libdir && /Users/biocbuild/BBS/utils/build-universal.sh spaSim_1.12.0.tar.gz /Library/Frameworks/R.framework/Resources/bin/R spaSim.buildbin-libdir StartedAt: 2025-11-23 11:39:20 -0500 (Sun, 23 Nov 2025) EndedAt: 2025-11-23 11:40:09 -0500 (Sun, 23 Nov 2025) EllapsedTime: 48.7 seconds RetCode: 0 Status: OK PackageFile: spaSim_1.12.0.tgz PackageFileSize: 4.106 MiB