Package: spARI Version: 1.0.0 Command: /Library/Frameworks/R.framework/Resources/bin/R CMD build --keep-empty-dirs --no-resave-data spARI StartedAt: 2025-11-10 17:49:41 -0500 (Mon, 10 Nov 2025) EndedAt: 2025-11-10 17:50:11 -0500 (Mon, 10 Nov 2025) EllapsedTime: 30.3 seconds RetCode: 0 Status: OK PackageFile: spARI_1.0.0.tar.gz PackageFileSize: 359.4 KiB