Package: spARI Version: 1.0.0 Command: rm -rf spARI.buildbin-libdir && mkdir spARI.buildbin-libdir && /Users/biocbuild/BBS/utils/build-universal.sh spARI_1.0.0.tar.gz /Library/Frameworks/R.framework/Resources/bin/R spARI.buildbin-libdir StartedAt: 2025-11-10 23:37:47 -0500 (Mon, 10 Nov 2025) EndedAt: 2025-11-10 23:38:00 -0500 (Mon, 10 Nov 2025) EllapsedTime: 13.2 seconds RetCode: 0 Status: OK PackageFile: spARI_1.0.0.tgz PackageFileSize: 404.3 KiB