Package: sosta Version: 1.2.0 Command: /home/biocbuild/bbs-3.22-bioc/R/bin/R CMD build --keep-empty-dirs --no-resave-data --md5 sosta StartedAt: 2025-11-03 20:14:32 -0500 (Mon, 03 Nov 2025) EndedAt: 2025-11-03 20:19:45 -0500 (Mon, 03 Nov 2025) EllapsedTime: 313.2 seconds RetCode: 0 Status: OK PackageFile: sosta_1.2.0.tar.gz PackageFileSize: 5.9 MiB