Package: soGGi Version: 1.42.0 Command: /home/biocbuild/bbs-3.22-bioc/R/bin/R CMD INSTALL soGGi StartedAt: 2025-11-11 15:57:55 -0500 (Tue, 11 Nov 2025) EndedAt: 2025-11-11 15:58:41 -0500 (Tue, 11 Nov 2025) EllapsedTime: 45.7 seconds RetCode: 0 Status: OK